BEGIN:VCALENDAR
VERSION:2.0
PRODID:-//مركز أور ميديا للتدريب - ECPv6.15.20//NONSGML v1.0//EN
CALSCALE:GREGORIAN
METHOD:PUBLISH
X-ORIGINAL-URL:https://www.ourmediatraining.com/ar/
X-WR-CALDESC:الدورات المجدولة في مركز أور ميديا للتدريب
REFRESH-INTERVAL;VALUE=DURATION:PT1H
X-Robots-Tag:noindex
X-PUBLISHED-TTL:PT1H
BEGIN:VTIMEZONE
TZID:Asia/Dubai
BEGIN:STANDARD
TZOFFSETFROM:+0400
TZOFFSETTO:+0400
TZNAME:+04
DTSTART:20250101T000000
END:STANDARD
END:VTIMEZONE
BEGIN:VEVENT
DTSTART;TZID=Asia/Dubai:20260413T183000
DTEND;TZID=Asia/Dubai:20260416T213000
DTSTAMP:20260419T191450
CREATED:20251222T162519Z
LAST-MODIFIED:20251223T100528Z
UID:10000451-1776105000-1776375000@www.ourmediatraining.com
SUMMARY:إدارة السمعة والأزمات الإعلامية 13-04-2026
DESCRIPTION:  \n:التفاصيل \nتهدف دورة إدارة السمعة والأزمات الإعلامية إلى تمكين المشاركين من فهم آليات بناء السمعة الإعلامية وحمايتها، والاستعداد المسبق لإدارة الأزمات الإعلامية باحتراف، والتعامل مع المواقف الحرجة بذكاء وسرعة، بما يقلّل الخسائر ويحافظ على الصورة الذهنية للمؤسسات والأفراد. \nتركّز الدورة على الدمج بين التخطيط الاستراتيجي، التواصل الإعلامي، وإدارة الرأي العام في البيئة الرقمية ووسائل الإعلام التقليدية، مع الالتزام بالمعايير المهنية والأخلاقية \n:المحتوى \nمفهوم السمعة الإعلامية وأهميتها في العصر الرقمي \nأنواع الأزمات الإعلامية ومراحل تطورها \nبناء استراتيجية استباقية لإدارة السمعة \nرصد المخاطر الإعلامية والإنذار المبكر للأزمات \nإدارة الأزمات عبر وسائل الإعلام التقليدية والرقمية \nالتعامل مع الأزمات على وسائل التواصل الاجتماعي \nصياغة الرسائل الإعلامية أثناء الأزمات \nدور المتحدث الرسمي وفريق إدارة الأزمة \nإدارة الشائعات والأخبار المضللة \nالتعافي بعد الأزمة واستعادة الثقة \nدراسات حالة لأزمات إعلامية محلية وعالمية \nمالذي سيحصل عليه المتدرب في نهاية الدورة ؟\n-شهادة من هيئة التنمية البشرية و المعرفة \n-شهادة من الأكاديمية الدولية للإعلام و الفنون و الإبداع برسوم إضافية
URL:https://www.ourmediatraining.com/ar/course/media-reputation-crisis-management-13-04-2026/
LOCATION:مجموعة أور ميديا الإعلامية\, Our Media Group\, دبي\, مراسي درايف - الخليج التجاري\, 10468\, United Arab Emirates
CATEGORIES:الدورات الافتراضية
ATTACH;FMTTYPE=image/jpeg:https://www.ourmediatraining.com/wp-content/uploads/2025/12/istockphoto-1496631467-1024x1024-1.jpg
ORGANIZER;CN="%D9%85%D8%B1%D9%83%D8%B2 %D8%A3%D9%88%D8%B1 %D9%85%D9%8A%D8%AF%D9%8A%D8%A7 %D9%84%D9%84%D8%AA%D8%AF%D8%B1%D9%8A%D8%A8 %D9%88%D8%A7%D9%84%D8%AA%D8%B7%D9%88%D9%8A%D8%B1 %D8%A7%D9%84%D8%A5%D8%B9%D9%84%D8%A7%D9%85%D9%8A":MAILTO:info@ourmediatraining.com
GEO:25.191965124638;55.284462375862
X-APPLE-STRUCTURED-LOCATION;VALUE=URI;X-ADDRESS=مجموعة أور ميديا الإعلامية Our Media Group دبي مراسي درايف - الخليج التجاري 10468 United Arab Emirates;X-APPLE-RADIUS=500;X-TITLE=Our Media Group:geo:55.284462375862,25.191965124638
END:VEVENT
BEGIN:VEVENT
DTSTART;TZID=Asia/Dubai:20260324T183000
DTEND;TZID=Asia/Dubai:20260327T213000
DTSTAMP:20260419T191450
CREATED:20251218T080943Z
LAST-MODIFIED:20251218T085200Z
UID:10000427-1774377000-1774647000@www.ourmediatraining.com
SUMMARY:إدارة السمعة والأزمات الإعلامية 24-03-2026
DESCRIPTION::التفاصيل \nتهدف دورة إدارة السمعة والأزمات الإعلامية إلى تمكين المشاركين من فهم آليات بناء السمعة الإعلامية وحمايتها، والاستعداد المسبق لإدارة الأزمات الإعلامية باحتراف، والتعامل مع المواقف الحرجة بذكاء وسرعة، بما يقلّل الخسائر ويحافظ على الصورة الذهنية للمؤسسات والأفراد. \nتركّز الدورة على الدمج بين التخطيط الاستراتيجي، التواصل الإعلامي، وإدارة الرأي العام في البيئة الرقمية ووسائل الإعلام التقليدية، مع الالتزام بالمعايير المهنية والأخلاقية \n:المحتوى \nمفهوم السمعة الإعلامية وأهميتها في العصر الرقمي \nأنواع الأزمات الإعلامية ومراحل تطورها \nبناء استراتيجية استباقية لإدارة السمعة \nرصد المخاطر الإعلامية والإنذار المبكر للأزمات \nإدارة الأزمات عبر وسائل الإعلام التقليدية والرقمية \nالتعامل مع الأزمات على وسائل التواصل الاجتماعي \nصياغة الرسائل الإعلامية أثناء الأزمات \nدور المتحدث الرسمي وفريق إدارة الأزمة \nإدارة الشائعات والأخبار المضللة \nالتعافي بعد الأزمة واستعادة الثقة \nدراسات حالة لأزمات إعلامية محلية وعالمية \nمالذي سيحصل عليه المتدرب في نهاية الدورة ؟\n-شهادة من هيئة التنمية البشرية و المعرفة \n-شهادة من الأكاديمية الدولية للإعلام و الفنون و الإبداع برسوم إضافية
URL:https://www.ourmediatraining.com/ar/course/media-reputation-crisis-management-24-03-2026/
LOCATION:مجموعة أور ميديا الإعلامية\, Our Media Group\, دبي\, مراسي درايف - الخليج التجاري\, 10468\, United Arab Emirates
CATEGORIES:الدورات الافتراضية
ATTACH;FMTTYPE=image/jpeg:https://www.ourmediatraining.com/wp-content/uploads/2025/12/istockphoto-1496631467-1024x1024-1.jpg
ORGANIZER;CN="%D9%85%D8%B1%D9%83%D8%B2 %D8%A3%D9%88%D8%B1 %D9%85%D9%8A%D8%AF%D9%8A%D8%A7 %D9%84%D9%84%D8%AA%D8%AF%D8%B1%D9%8A%D8%A8 %D9%88%D8%A7%D9%84%D8%AA%D8%B7%D9%88%D9%8A%D8%B1 %D8%A7%D9%84%D8%A5%D8%B9%D9%84%D8%A7%D9%85%D9%8A":MAILTO:info@ourmediatraining.com
GEO:25.191965124638;55.284462375862
X-APPLE-STRUCTURED-LOCATION;VALUE=URI;X-ADDRESS=مجموعة أور ميديا الإعلامية Our Media Group دبي مراسي درايف - الخليج التجاري 10468 United Arab Emirates;X-APPLE-RADIUS=500;X-TITLE=Our Media Group:geo:55.284462375862,25.191965124638
END:VEVENT
END:VCALENDAR